BEGIN:VCALENDAR
VERSION:2.0
PRODID:icalendar-ruby
CALSCALE:GREGORIAN
METHOD:PUBLISH
BEGIN:VEVENT
DTSTAMP:20260421T170337Z
UID:117-363404@crossbridgechurch.one
DTSTART:20260604T000000Z
DTEND:20260604T020000Z
CLASS:PUBLIC
CREATED:20260421T112603
DESCRIPTION:Our Young Adult Ministry is a place for connection\, faith and 
 community. Wheather you are new to church\, growing in your walk with God\
 , or simply looking for a place to belong\, we invite you to join us. This
  ministry is designed for young adults to build meaningful friendships\, g
 row spiritually\, and encourage one another through life's journey. Come b
 e part of a welcoming community where you can connect\, learn\, and grow i
 n faith together. \nReach out to Pastor Dalton with any questions 501-944
 -0630
LAST-MODIFIED:20260421T112603
LOCATION:1515 West Maple\, Mundelein\, IL  60060
SUMMARY:Young Adults Ministry
URL;VALUE=URI:https://www.crossbridgechurch.one/events/young-adults-ministr
 y/2026-06-03
ATTACH;FILENAME=unnamed.jpg;FMTTYPE=image/jpeg:https://dq5pwpg1q8ru0.cloudf
 ront.net/2026/04/20/19/51/07/b0c9abf1-00ac-4978-87e4-abdf8f3fc307/unnamed.
 jpg
END:VEVENT
END:VCALENDAR
