BEGIN:VCALENDAR
VERSION:2.0
PRODID:icalendar-ruby
CALSCALE:GREGORIAN
METHOD:PUBLISH
BEGIN:VEVENT
DTSTAMP:20260423T143015Z
UID:119-361516@crossbridgechurch.one
DTSTART:20260426T153000Z
DTEND:20260426T170000Z
CLASS:PUBLIC
CREATED:20260420T152629
DESCRIPTION:On this special Sunday\, we'll worship together\, hear from a g
 uest speaker\, and then split into breakout sessions on various disciplesh
 ip topics.
LAST-MODIFIED:20260420T152629
LOCATION:
SUMMARY:Take-It-Back Discipleship Sunday
URL;VALUE=URI:https://www.crossbridgechurch.one/events/take-it-back-discipl
 eship-sunday/2026-04-26
ATTACH;FILENAME=unnamed.jpg;FMTTYPE=image/jpeg:https://dq5pwpg1q8ru0.cloudf
 ront.net/2026/04/20/20/26/28/0fdce74d-9157-4fcc-b192-d36dbc0568fa/unnamed.
 jpg
END:VEVENT
END:VCALENDAR
